BEGIN:VCALENDAR
VERSION:2.0
PRODID:-//Bowdoin Music Festival - ECPv5.10.1//NONSGML v1.0//EN
CALSCALE:GREGORIAN
METHOD:PUBLISH
X-WR-CALNAME:Bowdoin Music Festival
X-ORIGINAL-URL:https://www.bowdoinfestival.org
X-WR-CALDESC:Events for Bowdoin Music Festival
BEGIN:VTIMEZONE
TZID:America/New_York
BEGIN:DAYLIGHT
TZOFFSETFROM:-0500
TZOFFSETTO:-0400
TZNAME:EDT
DTSTART:20190310T070000
END:DAYLIGHT
BEGIN:STANDARD
TZOFFSETFROM:-0400
TZOFFSETTO:-0500
TZNAME:EST
DTSTART:20191103T060000
END:STANDARD
END:VTIMEZONE
BEGIN:VEVENT
DTSTART;TZID=America/New_York:20190801T190000
DTEND;TZID=America/New_York:20190801T220000
DTSTAMP:20260422T182157
CREATED:20181116T204547Z
LAST-MODIFIED:20190801T122253Z
UID:13333-1564686000-1564696800@www.bowdoinfestival.org
SUMMARY:Young Artists Performance
DESCRIPTION:— 7:00 PM — \nJOHANNES BRAHMS (1833-1897)\nSonata No. 1 in F Minor\, Op. 120 No. 1\nI. Allegro appassionato\nJacob van der Sloot\, viola • Yu-Shin Liou\, piano\nJacob is a student of Dimitri Murrath and is sponsored by Sallie Smith Kise. Yu-Shin is a student of Pei-Shan Lee and is sponsored by George & Christine Bachrach.  \nLIBBY LARSEN (1950-)\nConcert Piece for Bassoon and Piano\nI. Strong\, Deliberate\nII. Ebb and Flow Throughout\nIII. Flat Out\nSteven Palacio\, bassoon • Ya-Ping (Chloe) Lo\, piano\nSteven is sponsored by Deborah & David Schall. Ya-Ping is a student of Pei-Shan Lee and is sponsored by Patricia E. Bonner.  \nBENJAMIN BRITTEN (1913-1976)\nSonata in C Major for Cello and Piano\, Op. 65\nI. Dialogo\nAndrew Laven\, cello • Jiarong Li\, piano\nAndrew is a student of Paul Katz and is sponsored by Norman & Lenore Rapkin. Jiarong is a student of Pei-Shan Lee and is sponsored by the Richard & Maryan F. Chapin Scholarship Fund.  \nROBERT SCHUMANN (1810-1856)\nPiano Trio No. 1 in D Minor\, Op. 63\nI. Mit Energie und Leidenschaft\nRebecca Kasdan\, violin • David Ying\, cello • Benjamin Dominguez\, piano\nRebecca is a student of Meg Freivogel and is sponsored by Patricia J. Brown. Benjamin is a student of Yong Hi Moon is sponsored by Marjorie Roberson.  \nJOHANNES BRAHMS (1833-1897)\nPiano Quartet No. 3 in C Minor\, Op. 60\nI. Allegro non troppo\nDavid Bernat\, violin • Jacob van der Sloot\, viola • Atticus Mellor-Goldman\, cello • Minji Nam\, piano\nDavid\, Jacob\, Atticus\, and Minji are sponsored by James T. Morgan\, Sallie Smith Kise\, Lewis & Adria Kaplan\, and Bill & Mary Earl Rogers\, respectively.  \n— 8:00 PM — \nPAUL HINDEMITH (1895-1963)\nSonata in F Major for Viola and Piano\, Op. 11 No. 4\nI. Fantasie\nII. Theme and Variations\nIII. Finale\nHyemi Choi\, viola • Yu-Shin Liou\, piano\nHyemi is a student of Dimitri Murrath and is sponsored by Judith & Stephen Corson. Yu-Shin is a student of Pei-Shan Lee and is sponsored by George & Christine Bachrach.  \nROBERT SCHUMANN (1810-1856)\nAdagio and Allegro\, Op. 70\nI. Adagio\nII. Allegro\nDavid Alexander\, horn • Minji Nam\, piano\nMinji is a student of Pei-Shan Lee and is sponsored by Bill & Mary Earl Rogers.  \nJOHANNES BRAHMS (1833-1897)\nViolin Concerto in D Major\, Op. 77\nI. Allegro non troppo\nYingchen Zhang\, violin • Yerim Rhee\, piano\nYingchen is a student of Robin Scott and is sponsored by Dominque van de Stadt & Octavio Pajaro. Yerim is a student of Pei-Shan Lee and is sponsored by the Bill & Sally Haggett.  \n— 9:00 PM — \nLUDWIG VAN BEETHOVEN (1770-1827)\nPiano Trio No. 5 in D Major\, Op. 70 No. 1\, “Ghost”\nI. Allegro vivace e con brio\nAllen Zhang\, violin • Jocelyn Hartley\, cello • Xiaotian Xu\, piano\nThe group is coached by Janet Sung.  \nANTON ARENSKY (1861-1906)\nPiano Trio No. 1 in D Minor\, Op. 32\nI. Allegro moderato\nStephanie Bonk\, violin • Jacob Hinton\, cello • Peter Smith\, piano\nThe group is coached by Denise Djokic.  \nJOHANNES BRAHMS (1833-1897)\nString Quartet No. 1 in C Minor\, Op. 51 No. 1\nI. Allegro\nIsabel Garita Chin\, Ben Garrett\, violin • Torron Pfeffer\, viola • Zoe Hardel\, cello\nThe group is coached by Robin Scott.  \nANTONÍN DVOŘÁK (1841-1904)\nString Quartet No. 12 in F Major\, Op. 96\, B. 179\, “American”\nI. Allegro ma non troppo\nNatasha Kubit\, Margaret Brady\, violin • Nai-tien Hsu\, viola • Jungbin Woo\, cello\nThe group is coached by Liz Freivogel.  \nJOHANNES BRAHMS (1833-1897)\nPiano Quartet No. 3 in C Minor\, Op. 60\nI. Allegro non troppo\nYu-Jen Weng\, violin • Kelly Avila\, viola • Brandon Cheng\, cello • Katya Grabova\, piano\nThe group is coached by Liza Stepanova.  \nGIOVANNI BOTTESINI (1821-1889)\nGran Quintetto\nI. Allegro moderato\nKayla Bryan\, Arielle Kasyanova\, violin • Gabriel Galley\, viola • Logan Hodgson\, cello • Cameron Ingram\, double bass\nThe group is coached by Kurt Muroki. Cameron is sponsored by Marta & Robert Frank.
URL:https://www.bowdoinfestival.org/event/young-artists-performance-43/
LOCATION:Studzinski Recital Hall\, 12 Campus Road S\, Brunswick\, ME\, 04011
CATEGORIES:Concert,Young Artists Series,Livestream,Free Events
ATTACH;FMTTYPE=image/jpeg:https://www.bowdoinfestival.org/contents/media/2018/11/YAS-July-8-d-10.jpg
END:VEVENT
END:VCALENDAR