BEGIN:VCALENDAR
VERSION:2.0
PRODID:-//Bowdoin Music Festival - ECPv5.10.1//NONSGML v1.0//EN
CALSCALE:GREGORIAN
METHOD:PUBLISH
X-WR-CALNAME:Bowdoin Music Festival
X-ORIGINAL-URL:https://www.bowdoinfestival.org
X-WR-CALDESC:Events for Bowdoin Music Festival
BEGIN:VTIMEZONE
TZID:America/New_York
BEGIN:DAYLIGHT
TZOFFSETFROM:-0500
TZOFFSETTO:-0400
TZNAME:EDT
DTSTART:20190310T070000
END:DAYLIGHT
BEGIN:STANDARD
TZOFFSETFROM:-0400
TZOFFSETTO:-0500
TZNAME:EST
DTSTART:20191103T060000
END:STANDARD
END:VTIMEZONE
BEGIN:VEVENT
DTSTART;TZID=America/New_York:20190802T110000
DTEND;TZID=America/New_York:20190802T173000
DTSTAMP:20260422T182013
CREATED:20181116T204648Z
LAST-MODIFIED:20190802T132332Z
UID:13335-1564743600-1564767000@www.bowdoinfestival.org
SUMMARY:Young Artists Performance
DESCRIPTION:— 11:00 AM — \nJOHANNES BRAHMS (1833-1897)\nSonata No. 1 in E Minor for Piano and Cello\, Op. 38\nI. Allegro non troppo\nCarson Ling-Efird\, cello • Ya-Ping (Chloe) Lo\, piano\nCarson is a student of Paul Katz. Ya-Ping is a student of Pei-Shan Lee and is sponsored by Patricia E. Bonner.  \nKARL GOLDMARK (1830-1915)\nViolin Concerto No. 1 in A Minor\, Op. 28\nI. Allegro moderato\nVincent Cart-Sanders\, violin • Tong Tong\, piano\nVincent is a student of Mikhail Kopelman.  \nJOHANN SEBASTIAN BACH (1685-1750)\nPrelude and Fugue No. 3 in C-sharp Minor\, BWV 848\nMax Wang\, piano\nMax is a student of Yong Hi Moon.  \nREBECCA CLARKE (1886-1979)\nSonata for Viola and Piano\nI. Impetuoso – Poco agitato\nTorron Pfeffer\, viola • Minjung Seo\, piano\nTorron is a student of Kirsten Docter. \nPYOTR ILLYICH TCHAIKOVSKY (1840-1893)\nVariations on a Rococo Theme\, Op. 33\nThema\nVariation I\nVariation II\nVariation V\nVariation VI\nVariation VII\nMartha Jean Sprague\, cello • Minjung Seo\, piano\nMartha is a student of Paul Katz.  \n— 12:00 PM — \nJOHANNES BRAHMS (1833-1897)\nSonata No. 2 in F Major for Piano and Cello\, Op. 99\nI. Allegro vivace\nSarah Tindall\, cello • Jiarong Li\, piano\nSarah is a student of Daniel McDonough. Jiarong is a student of Pei-Shan Lee and is sponsored by the Richard & Maryan F. Chapin Scholarship Fund.  \nJOHANNES BRAHMS (1833-1897)\nSonata No. 2 in F Major for Piano and Cello\, Op. 99\nII. Adagio affettuoso\nKamyron Williams\, cello • Jiarong Li\, piano\nKamyron is a student of Edward Arron. Jiarong is a student of Pei-Shan Lee and is sponsored by the Richard & Maryan F. Chapin Scholarship Fund.  \nJOHANN SEBASTIAN BACH (1685-1750)\nViolin Sonata No. 2 in A Minor\, BWV 1003\nIII. Andante\nIV. Allegro\nJennifer Gabrielle Armor\, violin\nJennifer is a student of Janet Sung.  \nMAX BRUCH (1838-1920)\nKol Nidrei\, Op. 47\nBrandon Cheng\, cello • Minjung Seo\, piano\nBrandon is a student of Daniel McDonough.  \nLUDWIG VAN BEETHOVEN (1770-1827)\nPiano Sonata No. 16 in G Major\, Op. 31 No. 1\nI. Allegro vivace\nCatharine Baek\, piano\nCatharine is a student of Ran Dank.  \n— 1:00 PM — \nFRANZ JOSEPH HAYDN (1732-1809)\nCello Concerto No. 2 in D Major\, Op. 101\, Hob. VIIb: 2\nI. Allegro moderato\nEleanora Willauer\, cello • Tong Tong\, piano\nEleanora is a student of Edward Arron.  \nMAURICE RAVEL (1875-1937)\nString Quartet in F Major\nI. Allegro moderato – Très doux\nElinor Detmer\, Tara Hagle\, violin • Ivana Agova\, viola • Martha Jean Sprague\, cello\nThe group is coached by Phillip Ying.  \nFRANK BRIDGE (1879-1941)\nPhantasy Piano Quartet in F-sharp Minor\, H. 94\nMadeline Farrar\, violin • Olivia Vamos\, viola • George Wolfe-McGuire\, cello • Kyra Lombard\, piano\nThe group is coached by Liza Stepanova.  \nJOHANNES BRAHMS (1833-1897)\nPiano Trio No. 2 in C Major\, Op. 87\nI. Allegro\nAndy Peng\, violin • Logan Hodgson\, cello • Scott Sherman\, piano\nThe group is coached by Renée Jolles.  \n— 2:00 PM — \nROBERT SCHUMANN (1810-1856)\nFantasiestücke\, Op. 73\nI. Zart und mit Ausdruck\nII. Lebhaft\, leicht\nKatie Chuang\, cello • Cynthia Chih-Yu Tseng\, piano\nKatie is a student of Edward Arron. Cynthia is a student of Pei-Shan Lee and is sponsored by Dick & Ann Stephenson.  \nPABLO DE SARASATE (1844-1908)\nCarmen Fantasy\, Op. 25\nI. Allegro moderato\nII. Moderato\nIII. Lento assai\nIV. Allegro moderato\nV. Moderato\nCameron Bennett Chase\, violin • Forrest Eimold\, piano\nCameron is a student of Robin Scott and Forrest is a student of Soyeon Kate Lee.  \nFRANZ LISZT (1811-1886)\nParaphrase de concert sur Rigoletto\, S. 434\nXiaotian Xu\, piano\nXiaotian is a student of Soyeon Kate Lee.  \nGIOVANNI BOTTESINI (1821-1889)\nElegy No. 1 in D Major\nCameron Ingram\, double bass • Cynthia Chih-Yu Tseng\, piano\nCameron is a student of Kurt Muroki and is sponsored by Marta & Robert Frank. Cynthia is a student of Pei- Shan Lee and is sponsored by Dick & Ann Stephenson.  \nSERGEI PROKOFIEV (1891-1953)\nString Quartet No. 1 in B Minor\, Op. 50\nI. Allegro\nClaire Metcalf\, Amelia Cannavo\, violin • Kelly Avila\, viola • Brian J. Park\, cello\nThe group is coached by Meg Freivogel.  \nWOLFGANG AMADEUS MOZART (1756-1791)\nPiano Quartet No. 1 in G Minor\, K. 478\nI. Allegro\nJulia Sellman\, violin • Kathleen McFarland\, viola • Benjamin Mekinulov\, cello • Kimia Rafieian\, piano\nThe group is coached by Tao Lin.  \n— 3:00 PM — \nFRANZ JOSEPH HAYDN (1732-1809)\nCello Concerto No. 2 in D Major\, Op. 101\, Hob. VIIb: 2\nI. Allegro moderato\nSpencer Adler\, cello • Tong Tong\, piano\nSpencer is a student of Edward Arron.  \nPYOTR ILLYICH TCHAIKOVSKY (1840-1893)\nViolin Concerto in D Major\, Op. 35\nI. Allegro moderato\nEllen Maloney\, violin • Feng Niu\, piano\nEllen is a student of Itamar Zorman.  \nFRÉDÉRIC CHOPIN (1810-1849)\nIntroduction et Polonaise Brillante in C Major\, Op. 3\nEvan Taylor Nicholson\, cello • Feng Niu\, piano\nEvan is a student of David Ying.  \nJEAN SIBELIUS (1865-1957)\nViolin Concerto in D Minor\, Op. 47\nI. Allegro moderato\nGrace Elizabeth Belsie\, violin • Feng Niu\, piano\nGrace is a student of Mikhail Kopelman.  \n— 4:00 PM — \nJOHANNES BRAHMS (1833-1897)\nViolin Concerto in D Major\, Op. 77\nI. Allegro non troppo\nDemi Fang\, violin • Jiarong Li\, piano\nDemi is a student of Nelson Lee. Jiarong is a student of Pei-Shan Lee and is sponsored by the Richard & Maryan F. Chapin Scholarship Fund.  \nÉDOUARD LALO (1823-1892)\nSymphonie Espagnole\, Op. 21\nI. Allegro non troppo\nMadeline Cha\, violin • Byunghee Yoo\, piano\nMadeline is a student of Janet Sung.  \nSERGEI PROKOFIEV (1891-1953)\nViolin Concerto No. 1 in D Major\, Op. 19\nI. Andantino\nNicole Yun\, violin • Byunghee Yoo\, piano\nNicole is a student of Robin Scott.  \nPAUL HINDEMITH (1895-1963)\nSonata in F Major for Viola and Piano\, Op. 11 No. 4\nI. Fantasie\nII. Theme mit variationen\nBram Fisher\, viola • Byunghee Yoo\, piano\nBram is a student of Liz Freivogel.  \nMAX BRUCH (1838-1920)\nRomance\, Op. 85\nGabriel Galley\, viola • Minji Nam\, piano\nGabriel is a student of Dimitri Murrath. Minji is a student of Pei-Shan Lee and is sponsored by Bill & Mary Earl Rogers.  \nSERGEI PROKOFIEV (1891-1953)\nPiano Sonata No. 4 in C Minor\, Op. 29\nI. Allegro molto sostenuto\nIII. Allegro con brio\, ma non leggiere\nYoko Nagafuchi\, piano\nYoko is a student of Soyeon Kate Lee.
URL:https://www.bowdoinfestival.org/event/young-artists-performance-44/
LOCATION:Studzinski Recital Hall\, 12 Campus Road S\, Brunswick\, ME\, 04011
CATEGORIES:Concert,Young Artists Series,Livestream,Free Events
ATTACH;FMTTYPE=image/jpeg:https://www.bowdoinfestival.org/contents/media/2018/11/session-1-auditions-2_35141121800_o.jpg
END:VEVENT
END:VCALENDAR