BEGIN:VCALENDAR
VERSION:2.0
PRODID:-//Bowdoin Music Festival - ECPv5.10.1//NONSGML v1.0//EN
CALSCALE:GREGORIAN
METHOD:PUBLISH
X-WR-CALNAME:Bowdoin Music Festival
X-ORIGINAL-URL:https://www.bowdoinfestival.org
X-WR-CALDESC:Events for Bowdoin Music Festival
BEGIN:VTIMEZONE
TZID:America/New_York
BEGIN:DAYLIGHT
TZOFFSETFROM:-0500
TZOFFSETTO:-0400
TZNAME:EDT
DTSTART:20210314T070000
END:DAYLIGHT
BEGIN:STANDARD
TZOFFSETFROM:-0400
TZOFFSETTO:-0500
TZNAME:EST
DTSTART:20211107T060000
END:STANDARD
END:VTIMEZONE
BEGIN:VEVENT
DTSTART;TZID=America/New_York:20210727T100000
DTEND;TZID=America/New_York:20210727T120000
DTSTAMP:20260423T095651
CREATED:20210528T193902Z
LAST-MODIFIED:20210726T151954Z
UID:17685-1627380000-1627387200@www.bowdoinfestival.org
SUMMARY:Ran Dank Masterclass
DESCRIPTION:Piano MASTERCLASS WITH Ran DAnK \nMasterclasses give the audience a first-hand look into the teaching and learning process that goes into creating music. Honing technical craft\, understanding the nuances of musical language\, and finding personal meaning in music are all part of a great masterclass. \nLUDWIG VAN BEETHOVEN (1770-1827)\n32 Variations on an Original Theme in C Minor\, WoO 80 \nAngie Zhang\, piano \nAngie is a summer student of Douglas Humpherys and is sponsored by Peter & Harriette Griffin. \nALEXANDER SCRIABIN (1872–1915)\nPiano Sonata No. 5\, Op. 53 \nAnthony Ratinov\, piano \nAnthony is a summer student of Douglas Humpherys and is a recipient of the ​​Paul J. Lynskey Piano Scholarship. \nFRANZ SCHUBERT (1797-1828)\nPiano Sonata No. 14 in A Minor\, D.784 \n\nAllegro giusto\n\nPui Yee Angela Lau\, piano \nAngela is a summer student of Soyeon Kate Lee and is sponsored by Bill & Sally Haggett. \nJOHANN SEBASTIAN BACH (1685-1750)\nKeyboard Partita No. 2 in C Minor\, BWV 826 \nStephen Joven-Lee\, piano \nStephen is a summer student of Douglas Humpherys and is sponsored by Ruth & Rupert White.
URL:https://www.bowdoinfestival.org/event/dank-lee-masterclass/
LOCATION:Live Online from Studzinski Recital Hall\, 12 Campus Rd S\, Brunswick\, ME\, 04011
CATEGORIES:Livestream,Masterclasses
ATTACH;FMTTYPE=image/jpeg:https://www.bowdoinfestival.org/contents/media/2020/06/randank1.jpg
END:VEVENT
BEGIN:VEVENT
DTSTART;TZID=America/New_York:20210727T190000
DTEND;TZID=America/New_York:20210727T210000
DTSTAMP:20260423T095651
CREATED:20190926T193602Z
LAST-MODIFIED:20210725T200115Z
UID:15174-1627412400-1627419600@www.bowdoinfestival.org
SUMMARY:Young Artists Performance
DESCRIPTION:7:00 PM \nGABRIEL FAURÉ (1845-1924)\nPiano Quartet No. 1 in C Minor\, Op. 15 \nIII. Adagio\nIV. Allegro molto \nSory Park\, violin • Jiwon (Grace) Kim\, viola • Andres Sanchez\, cello Anthony Ratinov\, piano \nThis group is coached by Phillip Ying. Sory is sponsored by Claudia & Michael Spies. Grace is sponsored by Tod & Lyn Rodger. Andres is sponsored by Deborah Schall. Anthony is a recipient of the Paul J. Lynskey Piano Scholarship. \nHANS PFITZNER (1869-1949)\nSonata for Violin and Piano in E Minor\, Op. 27 \n\nBewegt\, mit empfindung\n\nYe Jin Min\, violin • Minjung Seo\, piano \nYe Jin is a student of Itamar Zorman and is sponsored by Patricia Brown. \nDMITRI SHOSTAKOVICH (1906-1975)\nCello Concerto No. 1 in E-flat Major\, Op. 107 \n\nAllegretto\nModerato\n\nHeechan Ku\, cello • Feng Niu\, piano \nHeechan is a student of Edward Arron and is sponsored by Ed & Whitney Selover. \nGEORGE ENESCU (1881–1955)\nSonata No. 3 for Violin and Piano in A Minor\, Op. 25 \n\nModerato malinconico\n\nHannah MacLean\, violin • Feng Niu\, piano \nHannah is a student of Itamar Zorman. \n8:00 PM \nFRANZ LISZT (1811-1886)\nAnnées de pèlerinage III\, S. 163 \nNo. 4\, Les jeux d’eaux à la Villa d’Este \nVikki Chen\, piano \nVikki is a student of Soyeon Kate Lee. \nBÉLA BARTÓK (1881-1945)\nViolin Concerto No. 1\, Sz. 36 \n\nAndante sostenuto\n\nChristopher Kobayashi Herz\, violin • Miles Fellenberg\, piano \nChristopher is a student of Itamar Zorman. \nWOLFGANG AMADEUS MOZART (1756-1791)\nSonata for Piano and Violin No. 32 in B-flat Major\, K. 454 \n\nLargo – Allegro\n\nKristine Clair Uchi Galano\, violin • Cynthia Chih-Yu Tseng\, piano \nKristine is a student of Kurt Sassmannshaus. Cynthia is a student of Pei-Shan Lee and is a recipient of the Richard & Maryan F. Chapin Scholarship. \nNICCOLÒ PAGANINI (1782-1840)\nCaprice in E Minor\, Op. 1 No. 15 \nKristine Clair Uchi Galano\, violin \nKristine is a student of Kurt Sassmannshaus. \nMAURICE RAVEL (1875-1937)\nTzigane\, M. 76 \nJacqueline Hager\, cello • Cynthia Chih-Yu Tseng\, piano \nJacqueline is a student of Daniel McDonough. Cynthia is a student of Pei-Shan Lee and is a recipient of the Richard & Maryan F. Chapin Scholarship.
URL:https://www.bowdoinfestival.org/event/young-artists-performance-58/
LOCATION:Live Online from Studzinski Recital Hall\, 12 Campus Rd S\, Brunswick\, ME\, 04011
CATEGORIES:Concert,Young Artists Series,Livestream,Free Events
ATTACH;FMTTYPE=image/jpeg:https://www.bowdoinfestival.org/contents/media/2016/12/20160705_Festival_Rehearse-3_300dpi-edit.jpg
END:VEVENT
END:VCALENDAR