BEGIN:VCALENDAR
VERSION:2.0
PRODID:-//Bowdoin Music Festival - ECPv5.10.1//NONSGML v1.0//EN
CALSCALE:GREGORIAN
METHOD:PUBLISH
X-WR-CALNAME:Bowdoin Music Festival
X-ORIGINAL-URL:https://www.bowdoinfestival.org
X-WR-CALDESC:Events for Bowdoin Music Festival
BEGIN:VTIMEZONE
TZID:America/New_York
BEGIN:DAYLIGHT
TZOFFSETFROM:-0500
TZOFFSETTO:-0400
TZNAME:EDT
DTSTART:20210314T070000
END:DAYLIGHT
BEGIN:STANDARD
TZOFFSETFROM:-0400
TZOFFSETTO:-0500
TZNAME:EST
DTSTART:20211107T060000
END:STANDARD
END:VTIMEZONE
BEGIN:VEVENT
DTSTART;TZID=America/New_York:20210801T190000
DTEND;TZID=America/New_York:20210801T223000
DTSTAMP:20260423T140652
CREATED:20190926T193951Z
LAST-MODIFIED:20210801T040747Z
UID:15178-1627844400-1627857000@www.bowdoinfestival.org
SUMMARY:Young Artists Performance
DESCRIPTION:7:00 PM: Featuring Student Composers \nThe first portion of tonight’s program features works by the Festival’s student composers. The composition program is directed by Festival composer-in-residence Derek Bermel. \nKUNAL GALA (b. 1998)\nResonance\, Inflection and an old pond in Brunswick \nVictor Sintchak\, Luke Rinderknecht\, Jack Fischer\, Kunal Gala\, percussion \nSARAH WALD (b. 1990)\nAfter Zao Wou-Ki \n\n7/17/21\n7/18/21\n7/19/21\n7/20/21\n7/21/21\n7/22/21\n\nGabriel Anker\, violin • Lethicia Caravello\, harp • Wenbo Ai\, piano • Logan May\, bass \nPATRICK HOLCOMB (b. 1996)\nBody Memory \nI.   Invocation\nII.  Sky Song\nIII. Earth Song\nV.  Ocean Song\nVI. Sun Song\nVII. The Body Remembers \nDawn Kim\, Elise Haukenes\, violin • Amelia Krinke\, viola • Nicholas Pascucci\, cello \nSHAHAR REGEV (b. 1992)\nThe Entrance Stone \nMartha Sprague\, cello • Renée Emiko Murphy\, harp \nTYLER TAYLOR (b. 1992)\nDream set \n\nfor Chris\nfor Stephen\nfor Anthony\nfor Angie\n\nChris Soong\, Stephen Joven-Lee\, Anthony Ratinov\, Angie Zhang\, piano \nNAN YI (b. 1993)\nNight \n\nPond\n\nJacqueline Hager\, cello • Vikki Chen\, piano • Jack Fischer\, Victor Sintchak\, percussion \nFRANCESCA HILDITCH (b. 1996)\nTree \nJae In Yoo\, harp • Victor Sintchak\, marimba \nTAMARA MCLEOD (b. 1999)\nBéton Brut\, C’est Formidable \n\nBéton\nBrut\n\nArun Asthagiri\, Alexander Heidt\, violin • Marcus Stevenson\, viola • Isaac Pagano-Toub\, cello \n8:15 PM \nPAUL KEREKES (b. 1988)\ntrio in two parts for cello\, percussion\, and piano \n\nturning\nthree rooms\n\nEthan Blake\, cello • Victor Sintchak\, percussion • Joseph Vaz\, piano \nThis group is coached by Luke Rinderknecht. Ethan is sponsored by Susan & Peter Bachrach. \nDOMENICO DRAGONETTI (1763-1846)\nDuetto for Cello and Double Bass in B-flat Major \n\nAdagio\nAllegro non tanto\n\nNina Bernat\, Bennett Norris\, bass \nThis group is coached by Jeremy McCoy. Nina is sponsored by Dr. & Mrs. Stephen Corson. Bennett is sponsored by Dr. Richard & Sandra Neiman. \nWOLFGANG AMADEUS MOZART (1756-1791)\nPiano Quartet No. 1 in G Minor\, K. 478 \n\nAllegro\n\nChristopher Kobayashi Herz\, violin • Karlie Roberts\, viola • Bennett Norris\, bass • Daniela Jiménez Ochoa\, piano \nKarlie is sponsored by Robert & Carol Briselli. Bennett is sponsored by Dr. Richard & Sandra Neiman. \nANTONÍN DVOŘÁK (1841-1904)\nPiano Quintet in A Major\, Op. 81 \n\nAllegro ma non tanto\n\nKa Layang\, Owen Ruff\, violin • Marcus Stevenson\, viola • Isaac Pagano-Toub\, cello • Pui Yee Angela Lau\, piano \nThis group is coached by Aaron Berofsky. Angela is sponsored by Bill & Sally Haggett. \n9:00 PM \nWOLFGANG AMADEUS MOZART (1756-1791)\nString Quartet No. 15 in D Minor\, K. 421 \n\nAllegro moderato\nAndante\n\nAnda Jiang\, Marina Ziegler\, violin • Zoe Yost\, viola • Katherine Lee\, cello \nThis group is coached by Liz Freivogel. \nJOHANN SEBASTIAN BACH (1685-1750)\nCello Suite No. 6 in D Major\, BWV 1012 \n\nPrelude\n\nKatherine Lee\, cello \nKatherine is a summer student of Daniel McDonough. \nMAURICE RAVEL (1875-1937)\nGaspard de la nuit\, M. 55 \n\nOndine\n\nGrace Peng\, piano \nGrace is a summer student of Ran Dank. \nGEORGES BIZET (arr. WAXMAN) (1838-1875)\nCarmen Fantasie \nKa Layang\, violin • Miles Fellenberg\, piano \nLayang is a summer student of Kurt Sassmannshaus. \nROBERT SCHUMANN (1810-1856)\nSymphonic Etudes\, Op. 13 \nThema\, Andante\nEtude I\, Un poco più vivo\nEtude II\, Espressivo\nEtude III\, Vivace\nEtude IV\nEtude V\, Scherzando\nEtude VI\, Agitato\nEtude VII\, Allegro molto\nEtude VIII\, Sempre marcatissimo\nEtude IX\, Presto possibile\nEtude X\, Sempre con energia\nEtude XI\nEtude XII\, Allegro brillante \nRobert Brooks Carlson\, piano \nRobert is a summer student of Soyeon Kate Lee. \n10:00 PM \nSERGEI PROKOFIEV (1891–1953)\nSonata for Cello and Piano in C Major\, Op. 119 \n\nAndante grave – Moderato animato\nModerato\nAllegro\, ma non troppo\n\nAndres Sanchez\, cello • Cynthia Tseng\, piano \nAndres is a summer student of Paul Katz and is sponsored by Deborah Schall. Cynthia is a summer student of Pei-Shan Lee and is sponsored by the Richard & Maryan F. Chapin Scholarship Fund.
URL:https://www.bowdoinfestival.org/event/young-artists-performance-60/
LOCATION:Live Online from Studzinski Recital Hall\, 12 Campus Rd S\, Brunswick\, ME\, 04011
CATEGORIES:Concert,Young Artists Series,Livestream,Free Events
ATTACH;FMTTYPE=image/jpeg:https://www.bowdoinfestival.org/contents/media/2016/12/Anne-Akiko-Meyers-Masterclass-23.jpg
END:VEVENT
END:VCALENDAR