BEGIN:VCALENDAR
VERSION:2.0
PRODID:-//Bowdoin Music Festival - ECPv5.10.1//NONSGML v1.0//EN
CALSCALE:GREGORIAN
METHOD:PUBLISH
X-WR-CALNAME:Bowdoin Music Festival
X-ORIGINAL-URL:https://www.bowdoinfestival.org
X-WR-CALDESC:Events for Bowdoin Music Festival
BEGIN:VTIMEZONE
TZID:America/New_York
BEGIN:DAYLIGHT
TZOFFSETFROM:-0500
TZOFFSETTO:-0400
TZNAME:EDT
DTSTART:20210314T070000
END:DAYLIGHT
BEGIN:STANDARD
TZOFFSETFROM:-0400
TZOFFSETTO:-0500
TZNAME:EST
DTSTART:20211107T060000
END:STANDARD
END:VTIMEZONE
BEGIN:VEVENT
DTSTART;TZID=America/New_York:20210805T110000
DTEND;TZID=America/New_York:20210805T120000
DTSTAMP:20260423T082214
CREATED:20210730T153955Z
LAST-MODIFIED:20210730T233647Z
UID:18106-1628161200-1628164800@www.bowdoinfestival.org
SUMMARY:Meet the Composer: Anthony Cheung
DESCRIPTION:MEET THE COMPOSER: ANTHONY CHEUNG \nAn opportunity to learn about and experience the creative process of a living composer. These distinguished artists will discuss aspects of their music and inspirations.  \nComposer and pianist Anthony Cheung writes music that explores the senses\, a wide palette of instrumental play and affect\, improvisational traditions\, reimagined musical artifacts\, and multiple layers of textual meaning. Described as “gritty\, inventive and wonderfully assured” (San Francisco Chronicle) and praised for its “instrumental sensuality” (Chicago Tribune)\, his music reveals an interest in the ambiguity of sound sources and constantly shifting transformations of tuning and timbre. Representations of space and place are achieved through allusions in spatialization\, orchestration\, and recorded sound. \nAnthony Cheung has been commissioned by leading groups such as the Ensemble Modern\, Ensemble Intercontemporain\, Cleveland Orchestra (as the Daniel R. Lewis Young Composer Fellow)\, Frankfurt Radio Symphony Orchestra\, Ensemble Musikfabrik\, Scharoun Ensemble Berlin\, and the International Contemporary Ensemble (ICE). His work “Lyra” was commissioned for the New York Philharmonic at the request of Henri Dutilleux\, as part of the orchestra’s inaugural Kravis Prize for New Music. The New York Times wrote of it\, “Mr. Cheung’s shimmering score makes a persuasive case for the Orpheus myth as part of a global collective consciousness.” In addition\, his music has been performed by the Orchestre Philharmonique de Radio France\, Chicago Symphony Orchestra (MusicNOW series)\, Minnesota Orchestra\, Ensemble Linea\, Le Nouvel Ensemble Moderne\, wild Up\, Musiques Nouvelles\, Atlas Ensemble\, Orchestra of the League of Composers\, Taipei Chinese Orchestra\, Orchestre National de Lorraine\, Orchestre National de Lille\, eighth blackbird\, Dal Niente\, the New York Youth Symphony\, and the San Francisco Symphony Youth Orchestra. More recently\, he has written new works for the Escher and Spektral Quartets\, violinist Jennifer Koh\, flutist Claire Chase\, oboist Ernest Rombout\, and pianists Gilles Vonsattel\, Shai Wosner\, and Joel Fan. \nThe recipient of a 2016 Guggenheim Fellowship\, he has also received awards from the American Academy of Arts and Letters (Charles Ives Fellowship and Scholarship) and ASCAP\, and first prize in the Sixth International Dutilleux Competition (2008)\, as well as a Rome Prize from the American Academy in Rome (2012). He has also received commissions from the Koussevitzky and Fromm foundations. \nCheung’s music has been programmed at international festivals such as Ultraschall (Berlin)\, Cresc. Biennale (Frankfurt)\, Présences (Paris)\, impuls (Graz)\, Wittener Tage\, Tanglewood\, Aspen\, Mostly Mozart\, Transit (Leuven)\, Heidelberger Frühling\, Helsinki Festival and Musica Nova Helsinki\, Centre Acanthes\, Musica (Strasbourg)\, and Nuova Consonanza (Rome).
URL:https://www.bowdoinfestival.org/event/meet-the-composer-anthony-cheung/
LOCATION:Online
CATEGORIES:Livestream,Meet the Composer
ATTACH;FMTTYPE=image/jpeg:https://www.bowdoinfestival.org/contents/media/2021/07/Cheung_Piano1_BenGebo-1.jpg
END:VEVENT
BEGIN:VEVENT
DTSTART;TZID=America/New_York:20210805T123000
DTEND;TZID=America/New_York:20210805T183000
DTSTAMP:20260423T082214
CREATED:20190926T194916Z
LAST-MODIFIED:20210805T173744Z
UID:15184-1628166600-1628188200@www.bowdoinfestival.org
SUMMARY:Young Artists Performance
DESCRIPTION:12:30 PM \nJAVIER DIAZ (b. 1976)\nCinco Piezas para Marimba y Contrabajo \n\nLa Entrada\nLa Tumba Azul\nEl Cierre\nDanza-aire\n\nJack Fischer\, marimba • Logan May\, bass \nThis group is coached by Luke Rinderknecht. Logan is sponsored by David Lakari. \nGIOVANNI BOTTESINI (1821-1889)\nDouble Bass Concerto No. 2 in B Minor \nII.  Andante \nIII. Allegro \nBailey Amspoker\, bass • Miles Fellenberg\, piano \nBailey is a summer student of Jeremy McCoy. \nLUDWIG VAN BEETHOVEN (1770-1827)\nPiano Sonata No. 30 in E Major\, Op. 109 \n\nVivace ma non troppo. Adagio espressivo\nPrestissimo\n\nHung Phi Nguyen\, piano \nHung is a summer student of Douglas Humpherys. \n1:00 PM \nCAMILLE SAINT-SAËNS (1835-1921)\nSonata No. 1 for Violin and Piano in D Minor\, Op. 75 \n\nAllegro agitato – Adagio\n\nJulimar González León\, violin • Miles Fellenberg\, piano \nJulimar is a summer student of Sergiu Schwartz and is sponsored by Dominique van de Stadt & Octavio Pajaro. \nWOLFGANG AMADEUS MOZART (1756-1791)\nPiano Sonata No. 8 in A Minor\, K. 310 \n\nAllegro maestoso\n\nWenbo Ai\, piano \nWenbo is a student of Douglas Humpherys. \nALBAN BERG (1885-1935)\nPiano Sonata\, Op. 1 \nWenbo Ai\, piano \nWenbo is a student of Douglas Humpherys. \nMIKLÓS RÓZSA (1907-1995)\nViola Concerto\, Op. 37 \n\nModerato Assai\n\nWilfred Farquharson\, viola • Byunghee Yoo\, piano \nWilfred is a summer student of Liz Freivogel and is sponsored by Susan Lavan. \nJOHANNES BRAHMS (1833-1897)\nViolin Concerto in D Major\, Op. 77 \n\nAllegro non troppo\n\nSicong Chen\, violin • Miles Fellenberg\, piano \nSicong is a summer student of Sergiu Schwartz. \n2:00 PM \nLUDWIG VAN BEETHOVEN (1770-1827)\nSonata No. 5 in D Major for Piano and Cello\, Op. 102 No. 2 \nII.  Adagio con molto sentimento d’affetto\nIII. Allegro fugato \nNina Bernat\, bass • Cynthia Chih-Yu Tseng\, piano \nNina is a summer student of Paul Katz and is sponsored by Dr. & Mrs. Stephen Corson. Cynthia is a summer student of Pei-Shan Lee and is a recipient of the Richard & Maryan F. Chapin Scholarship. \nJOHANNES BRAHMS (1833-1897)\nSonata No. 3 in D Minor for Piano and Violin\, Op. 108 \nII.  Adagio\nIII. Un poco presto e con sentimento \nMarina Ziegler\, violin • Miles Fellenberg\, piano \nMarina is a summer student of Janet Sung. \nGIUSEPPE TARTINI (arr. Kreisler) (1692-1770) \nSonata for Violin and Piano in G Minor\, “Devil’s Trill” \n\nLarghetto affetuoso\n Allegro. Tempo giusto della scuole tartinista\nAndante – Allegro\nCadenza – Adagio\n\nElizabeth Huang\, violin • Miles Fellenberg\, piano \nElizabeth is a summer student of Sergiu Schwartz. \nJOHANNES BRAHMS (1833-1897)\nSonata No. 2 in E-flat Major\, Op. 120 No. 2 \n\nAllegro amabile\nAllegro appasionato\n\nKarlie Roberts\, viola • Cynthia Chih-Yu Tseng\, piano \nKarlie is a summer student of Dimitri Murrath and is sponsored by Robert & Carol Briselli. Cynthia is a summer student of Pei-Shan Lee and is a recipient of the Richard & Maryan F. Chapin Scholarship. \nHENRYK WIENIAWSKI (1835-1880)\nPolonaise Brillante No. 1 in D Major\, Op. 4 \nHenry Ayanna\, violin • Miles Fellenberg\, piano \nHenry is a summer student of Itamar Zorman. \n3:00 PM \nFRÉDÉRIC CHOPIN (1810-1849)\nBallade No. 4 in F Minor\, Op. 52 \nSeung-Hyun Lee\, piano \nSeung-Hyun is a summer student of Ran Dank. \nHENRI VIEUXTEMPS (1820-1881)\nSonata for Viola and Piano in B-flat Major\, Op. 36 \n\nMaestoso\n\nConor McAvinue\, viola • Ming-Li Liu\, piano \nConor is a summer student of Dimitri Murrath. Ming-Li is a summer student of Pei-Shan Lee and is sponsored by Lewis & Adria Kaplan. \nJOHANNES BRAHMS (1833-1897)\nSonata No. 1 for Piano and Cello in E Minor\, Op. 38 \nII.  Allegretto quasi minuetto\nIII. Allegro \nCarson Ling-Efird\, cello • Yu-Ting Peng\, piano \nCarson is a summer student of Paul Katz. Yu-Ting is a summer student of Pei-Shan Lee. \nJOHANNES BRAHMS (1833-1897)\nSonata No. 2 for Piano and Cello in F Major\, Op. 99 \n\n   Allegro vivace\n\nEmma Fisher\, cello • Margaret Kim\, piano \nEmma is a summer student of Paul Katz. Margaret is a summer student of Pei-Shan Lee and is sponsored by Bill & Mary Earl Rogers. \nCAMILLE SAINT-SAËNS (1835-1921)\nViolin Concerto No. 3 in B Minor\, Op. 61 \n\nAllegro non troppo\n\nAnda Jiang\, violin • Feng Niu\, piano \nAnda is a summer student of Ian Swensen. \n4:00 PM \nNIKOLAI MEDTNER    (1880-1951)\n6 Fairy Tales\, Op. 51 \nNo. 1\, Allegro molto vivace al rigore di tempo\nNo. 2\, Cantabile\, tranquillo \nPui Yee Angela Lau\, piano \nAngela is a summer student of Soyeon Kate Lee and is sponsored by Bill & Sally Haggett. \nFRANZ JOSEPH HAYDN (1732-1809)Cello Concerto No. 2 in D Major\, Op. 101\, Hob. VIIb: 2 \n\nAllegro moderato\n\nJiwon Lizzie Lee\, cello • Feng Niu\, piano \nLizzie is a summer student of Edward Arron. \nFRANZ JOSEPH HAYDN (1732-1809)\nString Quartet No. 61 in D Minor\, Op. 76 No. 2\, “Fifths” \nI.  Allegro\nIV. Finale. Vivace assai \nBenjamin Garrett\, Olivia Walberger\, violin • Megan Wike\, viola • Sebastian Berofsky\, cello \nThis group is coached by Nelson Lee. \nDMITRI SHOSTAKOVICH (1906-1975)\nString Quartet No. 3 in F Major\, Op. 73 \nIV. Adagio\nV.  Moderato \nBright Johnston\, Ryan Titapiwatanakun\, violin • Hannah Wendorf\, viola \nAnna Groesch\, cello \nThis group is coached by Kathryn Votapek. \n5:00 PM \nALEXANDER BORODIN (1833-1887)\nString Quartet No. 2 in D Major \n\nAllegro moderato\nScherzo. Allegro\n\nChristine Lee\, Emma Andersen\, violin • Karlie Roberts\, viola • Seoyeon Koo\, cello \nThis group is coached by Liz Freivogel. Karlie is sponsored by Robert & Carol Briselli. \nFRANZ SCHUBERT (1797-1828)\nPiano Trio No. 1 in B-Flat Major\, Op. 99\, D. 898 \n\nAllegro moderato\n\nByeol Kim\, violin • Zachary Fung\, cello • Daniela Jiménez Ochoa\, piano \nThis group is coached by Pei-Shan Lee. \nJOHANNES BRAHMS (1833-1897)\nPiano Quartet No. 3 in C Minor\, Op. 60 \nI.  Allegro non troppo\nIII. Andante \nBelle Wang\, violin • Natalie Brennecke\, viola • Ania Lewis\, cello • Robert Brooks Carlson\, piano \nThis group is coached by Ian Swensen \nFRANZ SCHUBERT    (1797-1828) \nPiano Quintet in A Major\, Op. 114\, D. 667\, “Trout” \nI.  Allegro vivace\nIV. Tema con variazione. Andantino \nRyan Cheng\, violin • Rowan Bauman Swain\, viola • Emma Fisher\, cello • Dylan Holly\, bass Carrie Chen\, piano \nThis group is coached by Jeremy McCoy. Rowan is sponsored by Bernard & Phyllis Givertz. Dylan is sponsored by Dr. & Mrs. Stephen Corson. \nANTONÍN DVOŘÁK (1841-1904)\nString Quintet No. 2 in G Major\, Op. 77\, B. 49 \n\nAllegro con fuoco\nScherzo. Allegro vivace – Trio\n\nJulimar González León\, Lucy Nemeth\, violin • Madeleine Pintoff\, viola • Daniel Ryu\, cello \nBailey Amspoker\, bass \nThis group is coached by Jeremy McCoy. Julimar is sponsored by Dominique van de Stadt & Octavio Pajaro. \n7:00 PM \nCLAUDE DEBUSSY (arr. SANDRINE LUZIGNANT) (1862-1918)\nPetite Suite for Viola\, Double Bass\, and Harp\, L. 65 \n\nEn bateau\nCortège\nMenuet\nBallet\n\nAngela Rubin\, viola • Tyler Vittoria\, bass • Catherine Reid\, harp \nThis group is coached by June Han. Angela is sponsored by Karsten Sorensen. \nFELIX MENDELSSOHN (1809-1847)\nPiano Trio No. 1 in D Minor\, Op. 49 \n\nMolto allegro ed agitato\n\nAva Kenney\, violin • Ethan Murphy\, cello • Son Duong\, piano \nThis group is coached by Ran Dank. \nBÉLA BARTÓK (1881-1945)\nString Quartet No. 4\, Sz. 91 \n\nAllegro\nPrestissimo\, con sordino\n\nElise Haukenes\, Tabitha Mason\, violin • Amelia Krinke\, viola • Vincent Garcia-Hettinger\, cello \n This group is coached by Meg Freivogel. \nDMITRI SHOSTAKOVICH (1906-1975)\nString Quartet No. 8 in C Minor\, Op. 110  \nII.  Allegro molto\nIII. Allegretto\nIV. Largo \nKaylee Bontrager\, Magali Pelletey\, violin • Madeleine Pintoff\, viola • Sebastian Berofsky\, cello \nThis group is coached by Meg Freivogel. \n8:00 PM \nHENRI VIEUXTEMPS (1820-1881)\nSonata for Viola and Piano in B-flat Major\, Op. 36 \n\nBarcarolla. Andante con moto\n\nJiwon (Grace) Kim\, viola • Ming-Li Liu\, piano \nGrace is a summer student of Kirsten Docter and is sponsored by Tod & Lyn Rodger. \nMing-Li is a summer student of Pei-Shan Lee and is sponsored by Lewis & Adria Kaplan. \nCÉSAR FRANCK (1822-1890)\nSonata in A Major\, FWV 8 \n\nAllegretto ben moderato\nAllegro\n\nDana Rath\, cello • Yu-Ting Peng\, piano \nThis group is coached by Paul Katz and Pei-Shan Lee. Dana is sponsored by Kent & Natalie Mitchell. \nJOHANNES BRAHMS (1833-1897)\nSonata No. 2 for Piano and Violin in A Major\, Op. 100 \nI.  Allegro amabile \nIII. Allegretto grazioso \nSory Park\, violin • Chris Soong\, piano \nSory is a summer student of Itamar Zorman and is sponsored by Claudia & Michael Spies. Chris is a summer student of Pei-Shan Lee and is sponsored by Lewis & Adria Kaplan. \nJOHANNES BRAHMS (1833-1897)\nPiano Trio No. 3 in C Minor\, Op. 101  \nIII. Andante grazioso\nIV. Allegro molto \nRussell Iceberg\, violin • William Suh\, cello • Stephen Joven-Lee\, piano \nRussell is sponsored by Barbara Gauditz. William Suh is sponsored by an anonymous donor. Stephen is sponsored by Ruth & Rupert White. \nARNOLD BAX (1883-1953)\nSonata for Viola and Piano in G Major\, GP 251 \nII. Allegro energico ma non troppo presto \nMarcus Stevenson\, viola • Byunghee Yoo\, piano \nMarcus is a summer student of Kirsten Docter. \n9:00 PM \nJEAN SIBELIUS (1865-1957)\nViolin Concerto in D Minor\, Op. 47 \n\nAllegro moderato\n\nIris Shepherd\, violin • Minjung Seo\, piano \nIris is a summer student of Janet Sung. \nFRANCESCA HILDITCH (b. 1996)\nMariposa \nVikki Chen\, piano \nVikki is a summer student of Soyeon Kate Lee. Francesca is a summer student of Derek Bermel. \nSHAHAR REGEV (b. 1992)\nInternalization \nSamuel Vargas\, violin • Lucy Zeng\, piano \nSamuel is a summer student of Sergiu Schwartz and is sponsored by Herbert & Harriet Paris. Lucy Zeng is a summer student of Pei-Shan Lee and is a recipient of the Richard & Maryan F. Chapin Scholarship. Shahar is a summer student of Derek Bermel and is sponsored by Civia & Irwin H. Rosenberg. \nDEREK BERMEL (b. 1967)\nAn Encounter with the Moon (text by Sandra Cisneros) \nAllyson Cohen\, violin • Nina Bernat\, bass • Tyler Taylor\, narrator \nThis group is coached by Derek Bermel. Nina is sponsored by Dr. & Mrs. Stephen Corson. Tyler is sponsored by Lorna & Jack Flynn. \nFRANZ SCHUBERT (1797-1828)\nString Quintet in C Major\, Op. 163\, D. 956 \n\nAllegro ma non troppo\nAdagio\n\nKristine Clair Uchi Galano\, Alexander Heidt\, violin • Jacob Shin\, viola • Ania Lewis\, Meagan Hipsky\, cello \nThis group is coached by Edward Arron.
URL:https://www.bowdoinfestival.org/event/young-artists-performance-63/
LOCATION:Live Online from Studzinski Recital Hall\, 12 Campus Rd S\, Brunswick\, ME\, 04011
CATEGORIES:Concert,Young Artists Series,Livestream,Free Events
ATTACH;FMTTYPE=image/jpeg:https://www.bowdoinfestival.org/contents/media/2018/11/gamper-festival-july-27-18_35416182593_o.jpg
END:VEVENT
BEGIN:VEVENT
DTSTART;TZID=America/New_York:20210805T190000
DTEND;TZID=America/New_York:20210805T220000
DTSTAMP:20260423T082214
CREATED:20190926T195144Z
LAST-MODIFIED:20210805T193345Z
UID:15186-1628190000-1628200800@www.bowdoinfestival.org
SUMMARY:Young Artists Performance
DESCRIPTION:7:00 PM \nCLAUDE DEBUSSY (arr. SANDRINE LUZIGNANT) (1862-1918)\nPetite Suite for Viola\, Double Bass\, and Harp\, L. 65 \n\nEn bateau\nCortège\nMenuet\nBallet\n\nAngela Rubin\, viola • Tyler Vittoria\, bass • Catherine Reid\, harp \nThis group is coached by June Han. Angela is sponsored by Karsten Sorensen. \nFELIX MENDELSSOHN (1809-1847)\nPiano Trio No. 1 in D Minor\, Op. 49 \n\nMolto allegro ed agitato\n\nAva Kenney\, violin • Ethan Murphy\, cello • Son Duong\, piano \nThis group is coached by Ran Dank. \nBÉLA BARTÓK (1881-1945)\nString Quartet No. 4\, Sz. 91 \n\nAllegro\nPrestissimo\, con sordino\n\nElise Haukenes\, Tabitha Mason\, violin • Amelia Krinke\, viola • Vincent Garcia-Hettinger\, cello \n This group is coached by Meg Freivogel. \nDMITRI SHOSTAKOVICH (1906-1975)\nString Quartet No. 8 in C Minor\, Op. 110  \nII.  Allegro molto\nIII. Allegretto\nIV. Largo \nKaylee Bontrager\, Magali Pelletey\, violin • Madeleine Pintoff\, viola • Sebastian Berofsky\, cello \nThis group is coached by Meg Freivogel. \n8:00 PM \nHENRI VIEUXTEMPS (1820-1881)\nSonata for Viola and Piano in B-flat Major\, Op. 36 \nII. Barcarolla. Andante con moto \nJiwon (Grace) Kim\, viola • Ming-Li Liu\, piano \nGrace is a summer student of Kirsten Docter and is sponsored by Tod & Lyn Rodger. \nMing-Li is a summer student of Pei-Shan Lee and is sponsored by Lewis & Adria Kaplan. \nCÉSAR FRANCK (1822-1890)\nSonata in A Major\, FWV 8 \n\nAllegretto ben moderato\nAllegro\n\nDana Rath\, cello • Yu-Ting Peng\, piano \nThis group is coached by Paul Katz and Pei-Shan Lee. Dana is sponsored by Kent & Natalie Mitchell. \nJOHANNES BRAHMS (1833-1897)\nSonata No. 2 for Piano and Violin in A Major\, Op. 100 \nI.  Allegro amabile \nIII. Allegretto grazioso \nSory Park\, violin • Chris Soong\, piano \nSory is a summer student of Itamar Zorman and is sponsored by Claudia & Michael Spies. Chris is a summer student of Pei-Shan Lee and is sponsored by Lewis & Adria Kaplan. \nJOHANNES BRAHMS (1833-1897)\nPiano Trio No. 3 in C Minor\, Op. 101  \nIII. Andante grazioso\nIV. Allegro molto \nRussell Iceberg\, violin • William Suh\, cello • Stephen Joven-Lee\, piano \nRussell is sponsored by Barbara Gauditz. William Suh is sponsored by an anonymous donor. Stephen is sponsored by Ruth & Rupert White. \nARNOLD BAX (1883-1953)\nSonata for Viola and Piano in G Major\, GP 251 \nII. Allegro energico ma non troppo presto \nMarcus Stevenson\, viola • Byunghee Yoo\, piano \nMarcus is a summer student of Kirsten Docter. \n9:00 PM \nJEAN SIBELIUS (1865-1957)\nViolin Concerto in D Minor\, Op. 47 \n\nAllegro moderato\n\nIris Shepherd\, violin • Minjung Seo\, piano \nIris is a summer student of Janet Sung. \nFRANCESCA HILDITCH (b. 1996)\nMariposa \nVikki Chen\, piano \nVikki is a summer student of Soyeon Kate Lee. Francesca is a summer student of Derek Bermel. \nSHAHAR REGEV (b. 1992)\nInternalization \nSamuel Vargas\, violin • Lucy Zeng\, piano \nSamuel is a summer student of Sergiu Schwartz and is sponsored by Herbert & Harriet Paris. Lucy Zeng is a summer student of Pei-Shan Lee and is a recipient of the Richard & Maryan F. Chapin Scholarship. Shahar is a summer student of Derek Bermel and is sponsored by Civia & Irwin H. Rosenberg. \nDEREK BERMEL (b. 1967)\nAn Encounter with the Moon (text by Sandra Cisneros) \nAllyson Cohen\, violin • Nina Bernat\, bass • Tyler Taylor\, narrator \nThis group is coached by Derek Bermel. Nina is sponsored by Dr. & Mrs. Stephen Corson. Tyler is sponsored by Lorna & Jack Flynn. \nFRANZ SCHUBERT (1797-1828)\nString Quintet in C Major\, Op. 163\, D. 956 \n\nAllegro ma non troppo\nAdagio\n\nKristine Clair Uchi Galano\, Alexander Heidt\, violin • Jacob Shin\, viola • Ania Lewis\, Meagan Hipsky\, cello \nThis group is coached by Edward Arron.
URL:https://www.bowdoinfestival.org/event/young-artists-performance-64/
LOCATION:Live Online from Studzinski Recital Hall\, 12 Campus Rd S\, Brunswick\, ME\, 04011
CATEGORIES:Concert,Young Artists Series,Livestream,Free Events
ATTACH;FMTTYPE=image/jpeg:https://www.bowdoinfestival.org/contents/media/2018/11/July-26.jpg
END:VEVENT
END:VCALENDAR